BEGIN:VCALENDAR
VERSION:2.0
PRODID:-//ChamberMaster//Event Calendar 2.0//EN
METHOD:PUBLISH
X-PUBLISHED-TTL:P3D
REFRESH-INTERVAL:P3D
CALSCALE:GREGORIAN
BEGIN:VEVENT
DTSTART:20260724T230000Z
DTEND:20260725T000000Z
X-MICROSOFT-CDO-ALLDAYEVENT:FALSE
SUMMARY:Ribbon Cutting: The Flying Pickle - Post Falls
DESCRIPTION:Ribbon Cutting Ceremony for The Flying Pickle - Post Falls
X-ALT-DESC;FMTTYPE=text/html:Ribbon Cutting Ceremony for The Flying Pickle - Post Falls
LOCATION:140 N Beck Road\, Suite 100\, Post Falls\, ID 83854
UID:e.405.37659
SEQUENCE:3
DTSTAMP:20260426T020121Z
URL:https://member.postfallschamber.org/events/details/ribbon-cutting-the-flying-pickle-post-falls-37659
END:VEVENT

END:VCALENDAR
