BEGIN:VCALENDAR
VERSION:2.0
PRODID:-//ChamberMaster//Event Calendar 2.0//EN
METHOD:PUBLISH
X-PUBLISHED-TTL:P3D
REFRESH-INTERVAL:P3D
CALSCALE:GREGORIAN
BEGIN:VEVENT
DTSTART:20260716T160000Z
DTEND:20260716T200000Z
X-MICROSOFT-CDO-ALLDAYEVENT:FALSE
SUMMARY:Junior Historian Summer Camp
DESCRIPTION:Get ready for an unforgettable adventure at the Junior Historian Summer Day Camp! This exciting camp for grades 1 6 takes young explorers on a hands-on journey through North Idaho's fascinating past\, with a new theme each week.\n\nCampers will dive into interactive activities\, crafts\, outdoor exploration\, and storytelling learning by doing\, creating\, and discovering along the way. From pioneer life to local legends\, every day brings something new to explore.\n\nIt's the perfect mix of fun\, friendship\, and history brought to life. Spots fill fast join us for a summer they won't forget!
X-ALT-DESC;FMTTYPE=text/html:<p>Get ready for an unforgettable adventure at the Junior Historian Summer Day Camp! This exciting camp for grades 1&ndash\;6 takes young explorers on a hands-on journey through North Idaho&rsquo\;s fascinating past\, with a new theme each week.</p>\n\n<p>Campers will dive into interactive activities\, crafts\, outdoor exploration\, and storytelling&mdash\;learning by doing\, creating\, and discovering along the way. From pioneer life to local legends\, every day brings something new to explore.</p>\n\n<p>It&rsquo\;s the perfect mix of fun\, friendship\, and history brought to life. Spots fill fast&mdash\;join us for a summer they won&rsquo\;t forget!</p>\n
LOCATION:Museum of North Idaho 720 E. Young Ave. Coeur d'Alene\, ID 83814
UID:e.405.37633
SEQUENCE:3
DTSTAMP:20260422T004410Z
URL:https://member.postfallschamber.org/events/details/junior-historian-summer-camp-07-16-2026-37633
END:VEVENT

END:VCALENDAR
