BEGIN:VCALENDAR
VERSION:2.0
PRODID:-//ChamberMaster//Event Calendar 2.0//EN
METHOD:PUBLISH
X-PUBLISHED-TTL:P3D
REFRESH-INTERVAL:P3D
CALSCALE:GREGORIAN
BEGIN:VEVENT
DTSTART:20260725T150000Z
DTEND:20260726T040000Z
X-MICROSOFT-CDO-ALLDAYEVENT:FALSE
SUMMARY:Grand Opening: The Flying Pickle - Post Falls
DESCRIPTION:Come Eat\, Dink\, & Be Merry at the Grand Opening of The Flying Pickle - Post Falls! You won't want to miss this incredible all-day event on Saturday\, July 25th. Come celebrate the opening of our 24 indoor cushioned pickleball courts\, restaurant\, bar\, and Selkirk Pro Shop! There will be free play all day with free food\, free drinks\, prizes\, and a chance to test your skills and win some money playing against touring pros! We'll cap the night off with a special open play session featuring a live DJ!
X-ALT-DESC;FMTTYPE=text/html:Come Eat\, Dink\, &amp\; Be Merry at the Grand Opening of The Flying Pickle - Post Falls! You won&#39\;t want to miss this incredible all-day event on Saturday\, July 25th. Come celebrate the opening of our 24 indoor cushioned pickleball courts\, restaurant\, bar\, and Selkirk Pro Shop! There will be free play all day with free food\, free drinks\, prizes\, and a chance to test your skills and win some money playing against touring pros! We&#39\;ll cap the night off with a special open play session featuring a live DJ!
LOCATION:140 N. Beck Road\, Suite 100\, Post Falls\, ID 83854
UID:e.405.37660
SEQUENCE:3
DTSTAMP:20260426T020504Z
URL:https://member.postfallschamber.org/events/details/grand-opening-the-flying-pickle-post-falls-37660
END:VEVENT

END:VCALENDAR
